BEGIN:VCALENDAR
VERSION:2.0
PRODID:-//Centro de Meditación Kadampa Madrid - ECPv6.15.16//NONSGML v1.0//EN
CALSCALE:GREGORIAN
METHOD:PUBLISH
X-WR-CALNAME:Centro de Meditación Kadampa Madrid
X-ORIGINAL-URL:https://meditaenmadrid.org
X-WR-CALDESC:Eventos para Centro de Meditación Kadampa Madrid
REFRESH-INTERVAL;VALUE=DURATION:PT1H
X-Robots-Tag:noindex
X-PUBLISHED-TTL:PT1H
BEGIN:VTIMEZONE
TZID:Europe/Madrid
BEGIN:DAYLIGHT
TZOFFSETFROM:+0100
TZOFFSETTO:+0200
TZNAME:CEST
DTSTART:20250330T010000
END:DAYLIGHT
BEGIN:STANDARD
TZOFFSETFROM:+0200
TZOFFSETTO:+0100
TZNAME:CET
DTSTART:20251026T010000
END:STANDARD
BEGIN:DAYLIGHT
TZOFFSETFROM:+0100
TZOFFSETTO:+0200
TZNAME:CEST
DTSTART:20260329T010000
END:DAYLIGHT
BEGIN:STANDARD
TZOFFSETFROM:+0200
TZOFFSETTO:+0100
TZNAME:CET
DTSTART:20261025T010000
END:STANDARD
BEGIN:DAYLIGHT
TZOFFSETFROM:+0100
TZOFFSETTO:+0200
TZNAME:CEST
DTSTART:20270328T010000
END:DAYLIGHT
BEGIN:STANDARD
TZOFFSETFROM:+0200
TZOFFSETTO:+0100
TZNAME:CET
DTSTART:20271031T010000
END:STANDARD
END:VTIMEZONE
BEGIN:VEVENT
DTSTART;TZID=Europe/Madrid:20260529T093000
DTEND;TZID=Europe/Madrid:20260529T133000
DTSTAMP:20260421T120017
CREATED:20251016T143337Z
LAST-MODIFIED:20260418T161921Z
UID:10031915-1780047000-1780061400@meditaenmadrid.org
SUMMARY:KANGSO: EL TAMBOR MELODIOSO QUE VENCE EN TODAS LAS DIRECCIONES
DESCRIPTION:Cantos del Gran protector\n\n\n\n\nSon oraciones cantadas para alcanzar realizaciones espirituales. Esta práctica suele realizarse en grupo una vez al mes en los centros de Dharma para cumplir con nuestro compromiso del corazón\, practicar el Lamrim\, el Loyong y el Mahamudra y confiar en nuestro Protector con sinceridad\, considerando que es inseparable de nuestro Guru y de nuestro Yidam y renovar los compromisos quebrantados. En estas oraciones encontrarás Alabanza a Manyhushri\, el yoga del Guru Yhe Tsongkhapa y la autogeneración como Heruka\, entre otros rituales. \n\n\n\n\nTienes más información de la oración Melodioso tambor que vence todas las direcciones en la editorial Tharpa.
URL:https://meditaenmadrid.org/event/kangso/2026-05-29/
CATEGORIES:Sierra
END:VEVENT
END:VCALENDAR